BEGIN:VCALENDAR
VERSION:2.0
PRODID:-//Mairie de Saint-Alban - ECPv4.6.18//NONSGML v1.0//EN
CALSCALE:GREGORIAN
METHOD:PUBLISH
X-WR-CALNAME:Mairie de Saint-Alban
X-ORIGINAL-URL:https://www.saintalban.fr
X-WR-CALDESC:Events for Mairie de Saint-Alban
BEGIN:VEVENT
DTSTART;TZID=Europe/Paris:20260517T080000
DTEND;TZID=Europe/Paris:20260517T170000
DTSTAMP:20260423T033413
CREATED:20260421T092740Z
LAST-MODIFIED:20260421T092740Z
UID:6490-1779004800-1779037200@www.saintalban.fr
SUMMARY:Randonnée de la Flora
DESCRIPTION:  \nLe dimanche 17 mai prochain\, l’entente cyclotouriste albanaise organise sa 23ème édition « Rando de la Flora ». \nAvec 800 participants en 2025\, la manifestation est devenue très prisée grâce à des parcours variés\, permettant de profiter de paysages magnifiques dans la vallée de la Flora et sur la côte. Elle s’adresse aux randonneurs\, aux vététistes et aux cyclotouristes.   \nPour satisfaire toutes les passions et ce à tous les niveaux de pratique\, ils vous proposent : \n\n5 circuits VTT (20\, 35\, 45\, 50 et 60 kms)\, \n3 circuits routes (52\, 78 et 105 kms)\, \n4 circuits de marche (5 km destinés aux familles\, 12\, 16 et 20 kms)\n2 circuits Gravel (50 et 90 kms).\n\nDes ravitaillements sont prévus sur les circuits jusqu’à 12 h\, et une station de lavage sera proposée. \nLe tarif à l’inscription est de 6 € et cette année encore il sera revesé 1 € par participant à l’Association de Parkinsoniens des Côtes d’Armor. \nLes inscriptions se feront sur place à la salle des fêtes (rue de l’église) avec un départ libre à partir de 7h30. \n
URL:https://www.saintalban.fr/evenement/randonnee-de-la-flora/
END:VEVENT
END:VCALENDAR