BEGIN:VCALENDAR
VERSION:2.0
PRODID:-//Mairie de Saint-Alban - ECPv4.6.18//NONSGML v1.0//EN
CALSCALE:GREGORIAN
METHOD:PUBLISH
X-WR-CALNAME:Mairie de Saint-Alban
X-ORIGINAL-URL:https://www.saintalban.fr
X-WR-CALDESC:Events for Mairie de Saint-Alban
BEGIN:VEVENT
DTSTART;TZID=Europe/Paris:20260508T080000
DTEND;TZID=Europe/Paris:20260508T170000
DTSTAMP:20260421T103954
CREATED:20260421T081343Z
LAST-MODIFIED:20260421T081422Z
UID:6487-1778227200-1778259600@www.saintalban.fr
SUMMARY:Cérémonie du 8 mai
DESCRIPTION:La cérémonie du 8 mai aura lieu à 10h au monument aux morts à Saint-Alban. Toutes les associations des anciens combattants\, les Albanaises et les Albanais\, et tout particulièrement les jeunes\, sont invités à cette cérémonie. Un café sera ensuite offert à la salle de La Marelle. \n
URL:https://www.saintalban.fr/evenement/ceremonie-du-8-mai/
END:VEVENT
END:VCALENDAR